BEGIN:VCALENDAR
VERSION:2.0
PRODID:-//Dixon Public Library - ECPv6.10.1.1//NONSGML v1.0//EN
CALSCALE:GREGORIAN
METHOD:PUBLISH
X-ORIGINAL-URL:https://dixonpubliclibrary.org
X-WR-CALDESC:Events for Dixon Public Library
REFRESH-INTERVAL;VALUE=DURATION:PT1H
X-Robots-Tag:noindex
X-PUBLISHED-TTL:PT1H
BEGIN:VTIMEZONE
TZID:America/New_York
BEGIN:DAYLIGHT
TZOFFSETFROM:-0500
TZOFFSETTO:-0400
TZNAME:EDT
DTSTART:20250309T070000
END:DAYLIGHT
BEGIN:STANDARD
TZOFFSETFROM:-0400
TZOFFSETTO:-0500
TZNAME:EST
DTSTART:20251102T060000
END:STANDARD
END:VTIMEZONE
BEGIN:VEVENT
DTSTART;TZID=America/New_York:20250908T173000
DTEND;TZID=America/New_York:20250908T190000
DTSTAMP:20260421T055100
CREATED:20250826T171812Z
LAST-MODIFIED:20250826T171812Z
UID:760-1757352600-1757358000@dixonpubliclibrary.org
SUMMARY:Regular Meeting Board of Trustees
DESCRIPTION:
URL:https://dixonpubliclibrary.org/event/regular-meeting-board-of-trustees-5/
LOCATION:Dixon Public Library\, 221 S. Hennepin Ave.\, Dixon\, IL\, 61021\, United States
END:VEVENT
BEGIN:VEVENT
DTSTART;TZID=America/New_York:20250922T103000
DTEND;TZID=America/New_York:20250922T113000
DTSTAMP:20260421T055100
CREATED:20250826T171927Z
LAST-MODIFIED:20250826T171927Z
UID:761-1758537000-1758540600@dixonpubliclibrary.org
SUMMARY:Monday Morning Mysteries
DESCRIPTION:
URL:https://dixonpubliclibrary.org/event/monday-morning-mysteries/
LOCATION:Dixon Public Library\, 221 S. Hennepin Ave.\, Dixon\, IL\, 61021\, United States
END:VEVENT
BEGIN:VEVENT
DTSTART;TZID=America/New_York:20250923T140000
DTEND;TZID=America/New_York:20250923T150000
DTSTAMP:20260421T055100
CREATED:20250826T172023Z
LAST-MODIFIED:20250826T172023Z
UID:762-1758636000-1758639600@dixonpubliclibrary.org
SUMMARY:Literary Merits
DESCRIPTION:
URL:https://dixonpubliclibrary.org/event/literary-merits/
LOCATION:Dixon Public Library\, 221 S. Hennepin Ave.\, Dixon\, IL\, 61021\, United States
END:VEVENT
BEGIN:VEVENT
DTSTART;TZID=America/New_York:20250923T180000
DTEND;TZID=America/New_York:20250923T190000
DTSTAMP:20260421T055100
CREATED:20250826T172102Z
LAST-MODIFIED:20250826T172102Z
UID:763-1758650400-1758654000@dixonpubliclibrary.org
SUMMARY:Orbital Book Group
DESCRIPTION:
URL:https://dixonpubliclibrary.org/event/orbital-book-group/
LOCATION:Dixon Public Library\, 221 S. Hennepin Ave.\, Dixon\, IL\, 61021\, United States
END:VEVENT
END:VCALENDAR