BEGIN:VCALENDAR
VERSION:2.0
PRODID:-//Dixon Public Library - ECPv6.10.1.1//NONSGML v1.0//EN
CALSCALE:GREGORIAN
METHOD:PUBLISH
X-WR-CALNAME:Dixon Public Library
X-ORIGINAL-URL:https://dixonpubliclibrary.org
X-WR-CALDESC:Events for Dixon Public Library
REFRESH-INTERVAL;VALUE=DURATION:PT1H
X-Robots-Tag:noindex
X-PUBLISHED-TTL:PT1H
BEGIN:VTIMEZONE
TZID:America/New_York
BEGIN:DAYLIGHT
TZOFFSETFROM:-0500
TZOFFSETTO:-0400
TZNAME:EDT
DTSTART:20240310T070000
END:DAYLIGHT
BEGIN:STANDARD
TZOFFSETFROM:-0400
TZOFFSETTO:-0500
TZNAME:EST
DTSTART:20241103T060000
END:STANDARD
END:VTIMEZONE
BEGIN:VEVENT
DTSTART;TZID=America/New_York:20241118T173000
DTEND;TZID=America/New_York:20241118T190000
DTSTAMP:20260421T055248
CREATED:20241025T202931Z
LAST-MODIFIED:20241025T202931Z
UID:309-1731951000-1731956400@dixonpubliclibrary.org
SUMMARY:Regular Meeting Board of Trustees
DESCRIPTION:
URL:https://dixonpubliclibrary.org/event/regular-meeting-board-of-trustees-2/
LOCATION:Dixon Public Library\, 221 S. Hennepin Ave.\, Dixon\, IL\, 61021\, United States
CATEGORIES:Board Meetings
END:VEVENT
BEGIN:VEVENT
DTSTART;VALUE=DATE:20241111
DTEND;VALUE=DATE:20241112
DTSTAMP:20260421T055248
CREATED:20241025T202609Z
LAST-MODIFIED:20241025T202721Z
UID:308-1731283200-1731369599@dixonpubliclibrary.org
SUMMARY:Veteran's Day - Library Closed
DESCRIPTION:
URL:https://dixonpubliclibrary.org/event/veterans-day-library-closed/
LOCATION:Dixon Public Library\, 221 S. Hennepin Ave.\, Dixon\, IL\, 61021\, United States
END:VEVENT
BEGIN:VEVENT
DTSTART;TZID=America/New_York:20241023T163000
DTEND;TZID=America/New_York:20241023T180000
DTSTAMP:20260421T055248
CREATED:20241022T171048Z
LAST-MODIFIED:20241022T171048Z
UID:306-1729701000-1729706400@dixonpubliclibrary.org
SUMMARY:Special Meeting Board of Trustees
DESCRIPTION:
URL:https://dixonpubliclibrary.org/event/special-meeting-board-of-trustees/
LOCATION:Dixon Public Library\, 221 S. Hennepin Ave.\, Dixon\, IL\, 61021\, United States
END:VEVENT
BEGIN:VEVENT
DTSTART;TZID=America/New_York:20241022T190000
DTEND;TZID=America/New_York:20241022T200000
DTSTAMP:20260421T055248
CREATED:20241011T210743Z
LAST-MODIFIED:20241011T210743Z
UID:294-1729623600-1729627200@dixonpubliclibrary.org
SUMMARY:ILP Presents Raise Your Voice with Jason Reynolds
DESCRIPTION:Registration Link:  https://bit.ly/ILP_JasonReynolds
URL:https://dixonpubliclibrary.org/event/ilp-presents-raise-your-voice-with-jason-reynolds/
LOCATION:IL
END:VEVENT
BEGIN:VEVENT
DTSTART;TZID=America/New_York:20241022T153000
DTEND;TZID=America/New_York:20241022T163000
DTSTAMP:20260421T055248
CREATED:20240830T084136Z
LAST-MODIFIED:20240930T190319Z
UID:97-1729611000-1729614600@dixonpubliclibrary.org
SUMMARY:Pumpkin Party (Ages 14-18\, Grades 9-12) (Freshmen - Seniors)
DESCRIPTION:
URL:https://dixonpubliclibrary.org/event/pumpkin-party-ages-14-18-grades-9-12-freshmen-seniors/
LOCATION:IL
END:VEVENT
BEGIN:VEVENT
DTSTART;TZID=America/New_York:20241014T173000
DTEND;TZID=America/New_York:20241014T190000
DTSTAMP:20260421T055248
CREATED:20241011T210445Z
LAST-MODIFIED:20241011T210445Z
UID:292-1728927000-1728932400@dixonpubliclibrary.org
SUMMARY:Regular Meeting Board of Trustees
DESCRIPTION:Regular Meeting of the Board of Trustees
URL:https://dixonpubliclibrary.org/event/regular-meeting-board-of-trustees/
LOCATION:Dixon Public Library\, 221 S. Hennepin Ave.\, Dixon\, IL\, 61021\, United States
END:VEVENT
BEGIN:VEVENT
DTSTART;VALUE=DATE:20240910
DTEND;VALUE=DATE:20240911
DTSTAMP:20260421T055248
CREATED:20240830T084040Z
LAST-MODIFIED:20240830T084040Z
UID:96-1725926400-1726012799@dixonpubliclibrary.org
SUMMARY:Fall Storytimes are back
DESCRIPTION:
URL:https://dixonpubliclibrary.org/event/fall-storytimes-are-back/
LOCATION:IL
END:VEVENT
END:VCALENDAR